BEGIN:VCALENDAR
VERSION:2.0
PRODID:-//wp-events-plugin.com//7.1.7//EN
BEGIN:VEVENT
UID:8384@powiat.poznan.pl
DTSTART:20240921T070000Z
DTEND:20240921T070000Z
DTSTAMP:20240920T124110Z
URL:https://powiat.poznan.pl/events/weekend-w-mosinie-2/
SUMMARY:Weekend w Mosinie
DESCRIPTION:Weekendowe wydarzenia w Gminie Mosina\nFestiwal Piosenki Patrio
 tycznej\n\nWięcej informacji na mosina.pl\n\n
ATTACH;FMTTYPE=image/jpeg:https://powiat.poznan.pl/wp-content/uploads/2024
 /09/kalendarz_mosina_na_weekend2023_09_maly.jpg
CATEGORIES:Sport
LOCATION:Stadion OSIR w Mosinie\, ul. Konopnickiej 31\, Mosina\, Poland
GEO:52.2379793;16.82613360000005
X-APPLE-STRUCTURED-LOCATION;VALUE=URI;X-ADDRESS=ul. Konopnickiej 31\, Mosin
 a\, Poland;X-APPLE-RADIUS=100;X-TITLE=Stadion OSIR w Mosinie:geo:52.237979
 3,16.82613360000005
END:VEVENT
END:VCALENDAR