BEGIN:VCALENDAR
VERSION:2.0
PRODID:-//wp-events-plugin.com//7.1.7//EN
BEGIN:VEVENT
UID:8336@powiat.poznan.pl
DTSTART:20241005T090000Z
DTEND:20241006T090000Z
DTSTAMP:20240916T124903Z
URL:https://powiat.poznan.pl/events/weekend-z-kultura-w-swarzedzu/
SUMMARY:Weekend z kulturą w Swarzędzu
DESCRIPTION:Weekend seniora z kulturą - Skorzystaj z wachlarza atrakcji\nS
 kansen i Muzeum Pszczelarstwa im. prof. Ryszarda Kosteckiego w Swarzędzu 
 zaprasza na:\n\n„Weekend Seniora z kulturą”\n\nZapraszamy seniorów o
 raz młodzież powyżej 14 roku życia do udziału w tegorocznej edycji 
 „Weekendu Seniora z kulturą”\, organizowanej pod patronatem Ministers
 twa Kultury i Dziedzictwa Narodowego. Wydarzenie odbędzie się w dniach 5
  i 6 października w Skansenie i Muzeum Pszczelarstwa im. prof. Ryszarda K
 osteckiego w Swarzędzu.\n\nUdział w wydarzeniu jest bezpłatny\, jednak 
 ze względu na ograniczoną liczbę miejsc wymagane są wcześniejsze zapi
 sy pod numerem telefonu: 61 651 18 17.\n\nProgram:\n\n10:00 - 11:30 – wy
 kład Mistrza Pszczelarskiego Jędrzeja Wigury: „Prozdrowotne właściwo
 ści miodu” (sala edukacyjna)\,\n\n11:45 - 12:30 – degustacja miodu or
 az kawa i herbata na świeżym powietrzu pod zadaszeniem\,\n\n12:45 – op
 rowadzanie po wystawie z przewodnikiem oraz spacer po Skansenie (ok. 30 mi
 nut).\n\nZapraszamy do wspólnego odkrywania tajników pszczelarstwa i zdr
 owotnych właściwości miodu!\n\nhttps://muzeum-szreniawa.pl/weekend-seni
 ora-z-kultura-w-skansenie-i-muzeum-pszczelarstwa-w-swarzedzu-5-i-6-pazdzie
 rnika-2024-r/\n\nAdres: ul. Poznańska 35\, 62 – 020 Swarzędz\n\ntel.: 
 61 651 18 17\n\ne-mail: swarzedz@muzeum-szreniawa.pl\n\n&nbsp\;\n\n
ATTACH;FMTTYPE=image/jpeg:https://powiat.poznan.pl/wp-content/uploads/2024
 /09/weekend-swarzedz-002.png
CATEGORIES:Dla seniora,Kultura i sztuka
LOCATION:Skansen Pszczelarski w Swarzędzu\, ul. Poznańska 35\, Swarzędz\
 , Poland
GEO:52.4047019;17.06061669999997
X-APPLE-STRUCTURED-LOCATION;VALUE=URI;X-ADDRESS=ul. Poznańska 35\, Swarzę
 dz\, Poland;X-APPLE-RADIUS=100;X-TITLE=Skansen Pszczelarski w Swarzędzu:g
 eo:52.4047019,17.06061669999997
END:VEVENT
END:VCALENDAR