BEGIN:VCALENDAR
VERSION:2.0
PRODID:-//wp-events-plugin.com//7.1.7//EN
BEGIN:VEVENT
UID:8808@powiat.poznan.pl
DTSTART:20250223T150000Z
DTEND:20250321T150000Z
DTSTAMP:20250129T134735Z
URL:https://powiat.poznan.pl/events/wernisaz-niby-detale-ale/
SUMMARY:Wernisaż ...Niby detale\, ale...
DESCRIPTION:Wernisaż ...Niby detale\, ale...\nZapraszamy na wyjątkowy wer
 nisaż do Dworu Skrzynki (gm. Stęszew). W niedzielę\, 23 lutego br. o go
 dz. 16:00 nastąpi otwarcie wystawy prac nagrodzonych w konkursie fotograf
 icznym „NIBY DETALE\, ALE…” organizowanym przez samorządową instyt
 ucję kultury – Instytut Skrzynki.\n\nTo właśnie nagrodzone zdjęcia w
  kategorii artystycznej i dokumentacyjnej będą zdobić ściany Galerii S
 krzynki oraz oczy uczestników wernisażu. Wystawę będzie można ogląda
 ć do 21 marca br. od piątku do niedzieli podczas działania restauracji 
 Dworu Skrzynki. O szczegółach i rozstrzygnięciach konkursu można przec
 zytać na stronie powiat.poznan.pl\n\nNa wernisaż i wystawę wstęp jest 
 wolny. Serdecznie zapraszamy!\n\n
ATTACH;FMTTYPE=image/jpeg:https://powiat.poznan.pl/wp-content/uploads/2025
 /01/fot.png
CATEGORIES:wystawa
LOCATION:Dwór Skrzynki\, Plac Parkowy 1\, Skrzynki\, gm. Stęszew\, 62-060
 \, Poland
GEO:52.342096;16.606405
X-APPLE-STRUCTURED-LOCATION;VALUE=URI;X-ADDRESS=Plac Parkowy 1\, Skrzynki\,
  gm. Stęszew\, 62-060\, Poland;X-APPLE-RADIUS=100;X-TITLE=Dwór Skrzynki:
 geo:52.342096,16.606405
END:VEVENT
END:VCALENDAR