BEGIN:VCALENDAR
VERSION:2.0
PRODID:-//wp-events-plugin.com//7.1.7//EN
BEGIN:VEVENT
UID:9095@powiat.poznan.pl
DTSTART;VALUE=DATE:20250615
DTEND;VALUE=DATE:20250922
DTSTAMP:20250522T094603Z
URL:https://powiat.poznan.pl/events/wernisaz-wystawy-fotografii-2/
SUMMARY:Wernisaż wystawy fotografii
DESCRIPTION:– Siła portretu tkwi w tym\, że w ciągu ułamka sekundy ud
 aje nam się pojąć coś z życia fotografowanej osoby – twierdzi Sebas
 tiao Salgado\, brazylijski fotograf pracujący jedynie w technikach fotogr
 afii czarno-białej. W tej krótkie i cennej obserwacji zawiera się kwint
 esencja projektu fotograficznego\, który Roman Max Szymański zrealizowa
 ł w Zespole Szkół Specjalnych nr 105 w Poznaniu. Osoby z portretów spo
 glądają na widza jako artyści\, sportowcy\, pasjonaci a przede wszystki
 m indywidualiści. Te niezwykle mocne w przekazie zdjęcia będą eksponow
 ane w Galerii Skrzynki od 15 czerwca do 21 września 2025 roku. Wernisaż 
 wystawy „On\, Ona\, Oni” rozpocznie się o godzinie 16:00.\n\nRoman Ma
 x Szymański sam będąc rodzicem niepełnosprawnego dziecka i fotografem\
 , stworzył przestrzeń artystycznej kreacji dla szczególnie wyjątkowych
  osób. Sesje fotograficzne stały się miejscem wyrażenia siebie. Z port
 retów emanują nie tylko nieskrywane emocje\, ale też radość z bycia a
 kceptowanym i poczucie bycia ważnym. Te portrety to komunikacja przez wzr
 ok\, dotyk i przedmiot. Dlaczego z tych czarno-białych portretów bije ta
 ka niezwykła siła? Warto to sprawdzić osobiście.\n\nAutor zdjęć z za
 wodu jest technikiem lotniczym oraz inżynierem mechatronikiem\, ale przed
  wszystkim jest fotografem z zamiłowania. Fotografią portretową pasjonu
 je się od lat. Uważa\, że ta niesamowita dziedzina fotografii jaką jes
 t portret\, pozwala poprzez wygląd zewnętrzny na przedstawienie emocji\,
  charakteru i czasem historii portretowanej osoby. Tego właśnie szukał 
 tworząc projekt „On\, Ona\, Oni”. Portery powstawały od 2019 roku do
  2025 roku. W Galerii Skrzynki znajdującej się w przyziemiu Dworu Skrzyn
 ki będzie można podziwiać ponad 20 wydrukowanych portretów i w uzupeł
 nieniu blisko 100 zdjęć cyfrowych prezentowanych na dużym monitorze.\n\
 n
ATTACH;FMTTYPE=image/jpeg:https://powiat.poznan.pl/wp-content/uploads/2025
 /05/wernisaz-15-06-2025-kwadrat.jpg
CATEGORIES:Kultura i sztuka,Warsztaty
LOCATION:Dwór w Skrzynkach\, Plac Parkowy 1\, Skrzynki\, Poland
GEO:52.342096;16.606405
X-APPLE-STRUCTURED-LOCATION;VALUE=URI;X-ADDRESS=Plac Parkowy 1\, Skrzynki\,
  Poland;X-APPLE-RADIUS=100;X-TITLE=Dwór w Skrzynkach:geo:52.342096,16.606
 405
END:VEVENT
END:VCALENDAR