BEGIN:VCALENDAR
VERSION:2.0
PRODID:-//wp-events-plugin.com//7.1.7//EN
BEGIN:VEVENT
UID:8472@powiat.poznan.pl
DTSTART:20241004T170000Z
DTEND:20241110T170000Z
DTSTAMP:20241004T071540Z
URL:https://powiat.poznan.pl/events/wernisaz-wystawy-malarstwa-krzysztofa-
 bijaczewskiego/
SUMMARY:Wernisaż wystawy malarstwa Krzysztofa Bijaczewskiego
DESCRIPTION:Wernisaż wystawy malarstwa Krzysztofa Bijaczewskiego pt. W pos
 zukiwaniu światła w obrazie\nWięcej informacji na puszczykowo.pl\n\n
ATTACH;FMTTYPE=image/jpeg:https://powiat.poznan.pl/wp-content/uploads/2024
 /10/wernisaz_bijaczewski_krzysztof_wystawa_plakat_do_echa_puszczykowa.jpg
CATEGORIES:wystawa
LOCATION:Willa Mimoza\, ul. Poznańska 26\, Puszczykowo\, 62-040\, Poland
GEO:52.2930757;16.861534900000038
X-APPLE-STRUCTURED-LOCATION;VALUE=URI;X-ADDRESS=ul. Poznańska 26\, Puszczy
 kowo\, 62-040\, Poland;X-APPLE-RADIUS=100;X-TITLE=Willa Mimoza:geo:52.2930
 757,16.861534900000038
END:VEVENT
END:VCALENDAR