BEGIN:VCALENDAR
VERSION:2.0
PRODID:-//wp-events-plugin.com//7.1.7//EN
BEGIN:VEVENT
UID:9040@powiat.poznan.pl
DTSTART:20250528T183000Z
DTEND:20250528T203000Z
DTSTAMP:20250522T070948Z
URL:https://powiat.poznan.pl/events/wieczor-filmowy-2/
SUMMARY:Wieczór filmowy
DESCRIPTION:\nSerdecznie zapraszamy Państwa na kolejny wieczór filmowy\n\
 n\n"Jesteś tam\, Boże? To ja\, Margaret" film z 2023 r.\n28 maja (środa
 )\nGodzina 19:30\nROKO_stacja\, ul. Dworcowa 1\, Rokietnica\n\n\nNasza pro
 pozycja filmowa to wzruszająca i pełna ciepła opowieść o dorastaniu\,
  poszukiwaniu własnej tożsamości i duchowych pytaniach\, które zadajem
 y sobie w przełomowych momentach życia. Idealny na spokojny\, refleksyjn
 y wieczór. W sam raz na rodzinne świętowanie Dnia Mamy \n\n\nWstęp wol
 ny.\n\n\n\n\n
ATTACH;FMTTYPE=image/jpeg:https://powiat.poznan.pl/wp-content/uploads/2025
 /05/rok3.jpg
CATEGORIES:Kultura i sztuka
LOCATION:Rokostacja\, Dworcowa 1\, Rokietnica\, Polska\, 62-090\, Poland
GEO:52.51186;16.753636
X-APPLE-STRUCTURED-LOCATION;VALUE=URI;X-ADDRESS=Dworcowa 1\, Rokietnica\, P
 olska\, 62-090\, Poland;X-APPLE-RADIUS=100;X-TITLE=Rokostacja:geo:52.51186
 ,16.753636
END:VEVENT
END:VCALENDAR