BEGIN:VCALENDAR
VERSION:2.0
PRODID:-//wp-events-plugin.com//7.1.7//EN
BEGIN:VEVENT
UID:9016@powiat.poznan.pl
DTSTART:20250515T160000Z
DTEND:20250515T180000Z
DTSTAMP:20250508T082549Z
URL:https://powiat.poznan.pl/events/wieczor-poetycki-3/
SUMMARY:Wieczór poetycki
DESCRIPTION:Wieczór poetycki Barbary Gryglewicz w Filii w Kórniku/Bninie.
 Zapisy pod numerem telefonu 691 448 221.\n\n
ATTACH;FMTTYPE=image/jpeg:https://powiat.poznan.pl/wp-content/uploads/2025
 /05/wieczor-poetycki.png
CATEGORIES:Kultura i sztuka
LOCATION:Filia Biblioteki Publicznej w Kórniku/Bninie\, ul. Rynek 16\, Bni
 n\, Poland
GEO:52.231112;17.09649
X-APPLE-STRUCTURED-LOCATION;VALUE=URI;X-ADDRESS=ul. Rynek 16\, Bnin\, Polan
 d;X-APPLE-RADIUS=100;X-TITLE=Filia Biblioteki Publicznej w Kórniku/Bninie
 :geo:52.231112,17.09649
END:VEVENT
END:VCALENDAR