BEGIN:VCALENDAR
VERSION:2.0
PRODID:-//wp-events-plugin.com//7.1.7//EN
BEGIN:VEVENT
UID:8876@powiat.poznan.pl
DTSTART:20250314T170000Z
DTEND:20250420T170000Z
DTSTAMP:20250225T071353Z
URL:https://powiat.poznan.pl/events/wiek-bez-filtra/
SUMMARY:Wiek bez filtra
DESCRIPTION:XXI Wiek bez filtra\nXXI wiek stał się epoką kreowania wizer
 unków\, retuszowania rzeczywistości i nadawania jej wygodnych\, często 
 zniekształconych form. To czas cyfrowych iluzji i przekazów filtrowanych
  przez media społecznościowe\, w którym sztuka pozostaje jednym z ostat
 nich bastionów autentyczności.\n\nWystawa "XXI WIEK BEZ FILTRA" to artys
 tyczny manifest szczerości – bez upiększeń\, bez kompromisów\, bez m
 aski.\n\nPięciu twórców – Paweł Kuczyński\, Daria Podemska\, Norber
 t Sarnecki\, Janusz Orzechowski i Jacek Szymański – podejmuje wyzwanie 
 zmierzenia się z rzeczywistością taką\, jaka jest\, każdy w swojej fo
 rmie artystycznej. Ich prace dotykają tematów społecznych\, politycznyc
 h i egzystencjalnych\, obnażając prawdę o współczesnym świecie.\n\nI
 ch sztuka to zwierciadło epoki –szczere\, bezkompromisowym i czasem bru
 talnym okiem.\n\nWystawa odbywa się w ramach cyklu „Mariaż sztuki z bi
 znesem” i jest jednym z wydarzeń sezonu artystycznego w V.A. Gallery Po
 land. To kolejny rok spotkań ze znakomitą polską sztuką współczesną
 .\n\n15 marca 2025/ sobota/ godziny 16:00 – 20:00\, powernisażowe spotk
 anie dla wszystkich wielbicieli sztuki – „Kanada oczyma polskich Artys
 tów”\n\nInformacja: V.A. Gallery Poland\n\n\n\n 
ATTACH;FMTTYPE=image/jpeg:https://powiat.poznan.pl/wp-content/uploads/2025
 /02/xxi-wiek-bez-filtra.jpg
CATEGORIES:wystawa
LOCATION:V.A Gallery Poland\, ul. Wierzbowa 162\, Wysogotowo\, Poland
GEO:52.4161157;16.776453100000026
X-APPLE-STRUCTURED-LOCATION;VALUE=URI;X-ADDRESS=ul. Wierzbowa 162\, Wysogot
 owo\, Poland;X-APPLE-RADIUS=100;X-TITLE=V.A Gallery Poland:geo:52.4161157,
 16.776453100000026
END:VEVENT
END:VCALENDAR