BEGIN:VCALENDAR
VERSION:2.0
PRODID:-//wp-events-plugin.com//7.1.7//EN
BEGIN:VEVENT
UID:8687@powiat.poznan.pl
DTSTART;VALUE=DATE:20250126
DTEND;VALUE=DATE:20250127
DTSTAMP:20241127T090934Z
URL:https://powiat.poznan.pl/events/wielka-orkiestra-swiatecznej-pomocy-w-
 swarzedzu/
SUMMARY:Wielka Orkiestra Świątecznej Pomocy w Swarzędzu
DESCRIPTION:33. Finał Wielkiej Orkiestry Świątecznej Pomocy\nWięcej inf
 ormacji na ok-swarzedz.pl\n\n
ATTACH;FMTTYPE=image/jpeg:https://powiat.poznan.pl/wp-content/uploads/2024
 /11/wosp_swarzedz.png
CATEGORIES:Społeczne
LOCATION:Hala Sportowa Swarzędz\, ul. Św. Marcina 1\, Swarzędz\, 62-020\
 , Poland
GEO:52.4101454;17.07054310000001
X-APPLE-STRUCTURED-LOCATION;VALUE=URI;X-ADDRESS=ul. Św. Marcina 1\, Swarz
 ędz\, 62-020\, Poland;X-APPLE-RADIUS=100;X-TITLE=Hala Sportowa Swarzędz:
 geo:52.4101454,17.07054310000001
END:VEVENT
END:VCALENDAR