BEGIN:VCALENDAR
VERSION:2.0
PRODID:-//wp-events-plugin.com//7.1.7//EN
BEGIN:VEVENT
UID:9219@powiat.poznan.pl
DTSTART:20250713T120000Z
DTEND:20250713T140000Z
DTSTAMP:20250625T052540Z
URL:https://powiat.poznan.pl/events/wikingowie-z-polnocnej/
SUMMARY:Wikingowie z Północnej
DESCRIPTION:Dwór Skrzynki 13 lipca\, o godz. 13.00 zaprasza dzieci na spek
 takl przygotowany specjalnie dla nich przez Teatr Wariate.  Spektakl „W
 ikingowie z ulicy Północnej” zrealizowany na podstawie tekstu Maliny P
 rześlugi\, inspirowany jest opowieściami i legendami z północnych kraj
 ów Europy. Dzieci poznają historie zakorzenione w nordyckich kulturach. 
 Poznają norweskie słowa\, zwyczaje oraz dowiadują się\, że odwaga nie
  jest cechą tylko chłopców. W tę teatralną podróż wyruszają bowiem
  wraz z główną bohaterką – Wiktorią. Oprócz tego spektakl niesie w
 iele uniwersalnych przesłań. Mówi o samotności\, przyjaźni\, o odwadz
 e i niepoddawaniu się przeszkodom\, wreszcie o miłości. Przedstawienie 
 przeznaczone jest dla widzów od czwartego  roku życia. Spektakl „Wiki
 ngowie z ulicy Północnej” wyreżyserowali Sylwia Koronczewska-Cyris i 
 Marek Cyris.\n\nSpektakl firmowany przez Estradę Poznańska odbędzie si
 ę w ramach projektu „Kultura w drodze” i jest współfinansowany z bu
 dżetu Województwa Wielkopolskiego. Na wspieranie udziału mieszkańców 
 województwa w koncertach i spektaklach samorząd województwa przeznaczy
 ł z budżetu kwotę 500 tysięcy złotych. – “Kultura w drodze” jes
 t mostem łączącym lokalne społeczności z bogactwem kulturalnym naszeg
 o regionu – mówi Marek Woźniak\, Marszałek Województwa Wielkopolskie
 go. Wstęp wolny – obowiązuje rezerwacja miejsc: kontakt@dworskrzynki.p
 l Przed i po spektaklu zapraszamy do skorzystania z naszej oferty gastrono
 micznej zarówno bezpośrednio przy scenie plenerowej jak i w restauracji.
 \n\n
ATTACH;FMTTYPE=image/jpeg:https://powiat.poznan.pl/wp-content/uploads/2025
 /06/kwadrat-2.jpg
CATEGORIES:Dla dzieci,Kultura i sztuka,Rozrywka,Społeczne
LOCATION:Dwór Skrzynki\, Plac Parkowy 1\, Skrzynki\, gm. Stęszew\, 62-060
 \, Poland
GEO:52.342096;16.606405
X-APPLE-STRUCTURED-LOCATION;VALUE=URI;X-ADDRESS=Plac Parkowy 1\, Skrzynki\,
  gm. Stęszew\, 62-060\, Poland;X-APPLE-RADIUS=100;X-TITLE=Dwór Skrzynki:
 geo:52.342096,16.606405
END:VEVENT
END:VCALENDAR