BEGIN:VCALENDAR
VERSION:2.0
PRODID:-//wp-events-plugin.com//7.1.7//EN
BEGIN:VEVENT
UID:9248@powiat.poznan.pl
DTSTART:20250721T230000Z
DTEND:20250726T230000Z
DTSTAMP:20250722T102124Z
URL:https://powiat.poznan.pl/events/wioslarskie-mistrzostwa-swiata-u-23/
SUMMARY:Wioślarskie mistrzostwa świata U-23
DESCRIPTION:Poznań jest gospodarzem Młodzieżowych Mistrzostw Świata w w
 ioślarstwie. Na torze Malta rywalizować będzie 239 osad z 53 krajów\, 
 w tym np. ekipy z Somalii czy Malezji. Polskę reprezentować będzie dzie
 więć osad\, w których usiądzie czterech zawodników z Wielkopolski. 
 – Na co stać naszą kadrę? Liczymy na pięć\, sześć finałów\, a t
 rzy osady to mocni kandydaci do podium. Ta grupa wiekowa do tego momentu n
 ie miała zbyt wielu możliwości ścigania się\, chociaż mamy za sobą 
 starty w zawodach międzynarodowych – mówi Błażej Kamola\, członek z
 arządu Polskiego Związek Towarzystw Wioślarskich.\n\nSzef Fundacji Wiel
 kopolskie Wioślarstwo Aleksander Daniel potwierdził\, że do Polski opr
 ócz zawodników przyjadą kibice z wielu państw świata\, ponad 650 osó
 b m.in. z Nowej Zelandii i Australii. – Nad organizacją zawodów pracuj
 e prawie 400 osób. Do tej pory zorganizowaliśmy dziewiętnaście wielkic
 h imprez wioślarskich\, tegoroczne zawody będą dwudziestymi – mówi. 
 Dodajmy\, że po raz pierwszy w historii młodzieżowych mistrzostw świat
 a odbędą się również zawody osób niepełnosprawnych U-23 w kategorii
  jedynek mężczyzn i kobiet. Wioślarskie święto rozpocznie się 22 lip
 ca o godz. 19.00 uroczystą ceremonią na Placu Kolegiackim. Zawody na Mal
 cie\, które wspiera m.in. powiat poznański\, potrwają do niedzieli 27 l
 ipca.\n\nŹródło: Wielkopolski Związek Towarzystw Wioślarskich\n\n\n\n
 &nbsp\;\n\n&nbsp\;
ATTACH;FMTTYPE=image/jpeg:https://powiat.poznan.pl/wp-content/uploads/2025
 /07/515495491_1161384669348323_214783829959379439_n.jpg
CATEGORIES:Sport
LOCATION:Poznań Malta\, Wiankowa 3 Poznań\, Poznań\, Poland
GEO:52.399821;16.975334
X-APPLE-STRUCTURED-LOCATION;VALUE=URI;X-ADDRESS=Wiankowa 3 Poznań\, Pozna
 ń\, Poland;X-APPLE-RADIUS=100;X-TITLE=Poznań Malta:geo:52.399821,16.9753
 34
END:VEVENT
END:VCALENDAR