BEGIN:VCALENDAR
VERSION:2.0
PRODID:-//wp-events-plugin.com//7.1.7//EN
BEGIN:VEVENT
UID:9124@powiat.poznan.pl
DTSTART:20250726T180000Z
DTEND:20250726T200000Z
DTSTAMP:20250529T061236Z
URL:https://powiat.poznan.pl/events/wolna-grupa-bukowina/
SUMMARY:Wolna Grupa Bukowina
DESCRIPTION:Nikt nie jest w stanie policzyć\, na ilu górskich szlakach\, 
 w ilu schroniskach\, przy ilu ogniskach rozbrzmiewały ich piosenki. Nikt 
 nie policzy\, ilu mniej lub bardziej biegłych gitarzystów zawzięcie ćw
 iczyło chwyty\, by móc zaśpiewać pieśń o Rzece\, powtórzyć Nutę z
  Ponidzia czy powspominać Majstra Biedę. Dla kilku już pokoleń piosenk
 i Wolnej Grupy Bukowina są po prostu kultowe. 26 lipca\, o godz. 19:00 uk
 ochane teksty niegdyś skrzętnie kopiowane do zeszytów z „wymęczonych
 ” śpiewników\, odtwarzane z lichych kaset magnetofonowych\, będzie mo
 żna usłyszeć na plenerowym koncercie w Dworze Skrzynki na żywo!\n\nOso
 bom ukształtowanym przez tzw. kulturę studencką z lat 60-90 nie trzeba 
 przypominać\, ale młodzi powinni wiedzieć\, że Wolna Grupa Bukowina to
  polska grupa z nurtu poezji śpiewanej powstała na początku lat 70-tych
  XX wieku. Zadebiutowali w 1971 roku na Giełdzie Piosenki Turystycznej w 
 Szklarskiej Porębie. Zespół przyjechał z Buska-Zdroju\, a założył g
 o ówczesny maturzysta Wojciech Bellon. Piosenką Wojtka “Nuta z Ponidzi
 a” wyśpiewali jedną z głównych nagród. Od początku Bukowina miała
  formułę zespołu otwartego\, toteż występowało z nią wielu znanych 
 polskich wykonawców i muzyków.\n\nTrzon zespołu stanowili: Wojciech Bel
 lon – twórca tekstów większości piosenek\, Grażyna Kulawik\, Wojcie
 ch Jarociński i Wacław Juszczyszyn. Poza sporym dorobkiem twórczym zesp
 ół ma na swym koncie wielokrotnie nagrodzone występy w licznych polskic
 h festiwalach\, w tym na Festiwalu Polskiej Piosenki w Opolu\, Studenckim 
 Festiwalu Piosenki w Krakowie\, udział w studenckich festiwalach FAMA ora
 z dwukrotny występ dla 150-tysięcznej widowni na Przystanku Woodstock. Z
 espół ma też za sobą wielokrotne występy zagraniczne w Europie a tak
 że dla Polonii w Kanadzie\, USA i Irlandii.\n\nWolna Grupa Bukowina istni
 eje ponad 50 lat i z nieustającym powodzeniem koncertuje w Polsce\, zdoby
 wając uznanie kolejnych pokoleń wiernych słuchaczy. Docenił to równie
 ż ZAIKS\, który w końcu najlepiej umie policzyć\, jak bardzo popularny
  jest dany autor czy kompozytor\, i w maju tego roku nagrodził zespół j
 edną z trzech nagród wręczanych z okazji 100-lecia ZAIKS-u. Jak piszą 
 muzycy\, którzy tworzą obecny skład… “To wielkie wyróżnienie dla 
 Wojtka Bellona i dla nas”. Na placu animacji Dworu Skrzynki 26 lipca zag
 rają: Grażyna Kulawik – śpiew\, Wojciech Jarociński – śpiew\, git
 ara\, Wacław Juszczyszyn – śpiew\, gitara oraz Krzysztof Żesławski 
 – gitara basowa.\n\nWarto wspomnieć\, że koncert wpisuje się w cykl w
 ydarzeń celebrowanych z okazji 75-lecia powstania Zrzeszenia Studentów P
 olskich. Bilety można kupować on-line. Przed i po koncercie zapraszamy d
 o skorzystania z naszej oferty gastronomicznej zarówno bezpośrednio przy
  scenie plenerowej jak i w restauracji.\n\n
ATTACH;FMTTYPE=image/jpeg:https://powiat.poznan.pl/wp-content/uploads/2025
 /05/b.jpg
CATEGORIES:Kultura i sztuka,Rozrywka
LOCATION:Dwór Skrzynki\, Plac Parkowy 1\, Skrzynki\, gm. Stęszew\, 62-060
 \, Poland
GEO:52.342096;16.606405
X-APPLE-STRUCTURED-LOCATION;VALUE=URI;X-ADDRESS=Plac Parkowy 1\, Skrzynki\,
  gm. Stęszew\, 62-060\, Poland;X-APPLE-RADIUS=100;X-TITLE=Dwór Skrzynki:
 geo:52.342096,16.606405
END:VEVENT
END:VCALENDAR