BEGIN:VCALENDAR
VERSION:2.0
PRODID:-//wp-events-plugin.com//7.1.7//EN
BEGIN:VEVENT
UID:9165@powiat.poznan.pl
DTSTART:20250628T070000Z
DTEND:20250628T130000Z
DTSTAMP:20250623T082315Z
URL:https://powiat.poznan.pl/events/wycieczka-do-gniezna/
SUMMARY:Wycieczka do Gniezna
DESCRIPTION:Polskie Towarzystwo Turystyczno-Krajoznawcze oraz Oddział Śro
 dowiskowy Poznań-Nowe Miasto im. Franciszka Jaśkowiaka zapraszają na XI
 Il Wycieczkę z Włodzimierzem Łęckim\, tym razem pod nazwą „Gniezno 
 i okolice”. Imprezę zaplanowano na sobotę\, 28 czerwca. W programie wy
 cieczki zwiedzanie Ostrowa Lednickiego\, Gniezna\, Czerniejewa oraz Giecza
 . Osoby\, które nie należą do PTTK mogą również brać udział w wyci
 eczce. Więcej informacji w załączniku.\n\n&nbsp\;\n\nPRZEBIEG TRASY:\n\
 nGodz. 8.00 –  wyjazd z Poznania (Zespół Szkół Salezjańskich Os. B
 ohaterów II\n\nWojny  Światowej 29)\n\nGodz. 8.20 –  wyjazd z Poznan
 ia  (Komandoria\, parking za Kościołem\n\npod wezwaniem  św. Jana Jer
 ozolimskiego za Murem)\n\nGodz. 8.30 – wyjazd z Swarzędza (parking przy
  Markecie Netto os. Kościuszkowców)\n\nGodz. 8.45 – wyjazd z Kostrzyna
  (przystanek autobusowy naprzeciwko Biblioteki w kierunku Wrześni)\n\nPow
 rót do Poznania około 18.30\n\n&nbsp\;\n\nW wycieczce biorą udział  o
 soby które do 21 czerwca 2025 roku do godz. 17.00. zgłoszą się na adre
 s: eugeniuszjacek.1@wp.pl \,oraz wpłacą wpisowe na konto do wyżej wymie
 nionego dnia. Nie przyjmujemy wpisowego w autokarze.\n\n&nbsp\;
ATTACH;FMTTYPE=image/jpeg:https://powiat.poznan.pl/wp-content/uploads/2023
 /06/pttk_logo.jpg
CATEGORIES:Dla seniora,Turystyka i rekreacja
LOCATION:Gniezno\, Gniezno\, Gniezno\, Poland
GEO:52.534925;17.582658
X-APPLE-STRUCTURED-LOCATION;VALUE=URI;X-ADDRESS=Gniezno\, Gniezno\, Poland;
 X-APPLE-RADIUS=100;X-TITLE=Gniezno:geo:52.534925,17.582658
END:VEVENT
END:VCALENDAR