BEGIN:VCALENDAR
VERSION:2.0
PRODID:-//wp-events-plugin.com//7.1.7//EN
BEGIN:VEVENT
UID:8453@powiat.poznan.pl
DTSTART:20241016T170000Z
DTEND:20241016T170000Z
DTSTAMP:20241003T071926Z
URL:https://powiat.poznan.pl/events/wyklad-historyczny-i-projekcja-filmu-c
 ysterskie-tchnienie-polaczeni-przeszloscia/
SUMMARY:Wykład historyczny i projekcja filmu Cysterskie tchnienie - połą
 czeni przeszłością
DESCRIPTION:Wykład historyczny i projekcja filmu Cysterskie tchnienie - po
 łączeni przeszłością\nWięcej informacji na czerwonak.pl\n\n
ATTACH;FMTTYPE=image/jpeg:https://powiat.poznan.pl/wp-content/uploads/2024
 /10/wyklad_3828820242016cysterskimwydarzeniepoziomjpg.jpg
CATEGORIES:Kultura i sztuka
LOCATION:Centrum Kultury i Rekreacji w Koziegłowach\, ul.  Piłsudskiego 3
 \, Koziegłowy\, 62-028\, Poland
GEO:52.4482568;16.991473799999994
X-APPLE-STRUCTURED-LOCATION;VALUE=URI;X-ADDRESS=ul.  Piłsudskiego 3\, Kozi
 egłowy\, 62-028\, Poland;X-APPLE-RADIUS=100;X-TITLE=Centrum Kultury i Rek
 reacji w Koziegłowach:geo:52.4482568,16.991473799999994
END:VEVENT
END:VCALENDAR