BEGIN:VCALENDAR
VERSION:2.0
PRODID:-//wp-events-plugin.com//7.1.7//EN
BEGIN:VEVENT
UID:9427@powiat.poznan.pl
DTSTART:20251004T073000Z
DTEND:20251004T140000Z
DTSTAMP:20251002T093122Z
URL:https://powiat.poznan.pl/events/wyscig-mtb-wiorek/
SUMMARY:Wyścig MTB Wiórek
DESCRIPTION:W tym roku wydarzenie ponownie połączone będzie z Mistrzostw
 ami Polski w maratonie MTB kolarzy z cukrzycą\, a na uczestników czeka w
 ybór tras:– 21 km i 42 km dla dorosłych– oraz trasy dla dzieci i m
 łodzieży.\nZeszłoroczna edycja MTB Wiórek 2024 przyciągnęła zawodni
 ków z całej Polski – zarówno tych doświadczonych\, jak i amatorów\,
  którzy chcieli sprawdzić się w rywalizacji terenowej. Emocjonująca at
 mosfera\, doskonała organizacja\, profesjonalne zabezpieczenie tras i fan
 tastyczne zaplecze przyrodnicze sprawiły\, że wydarzenie zostało bardzo
  wysoko ocenione przez uczestników i kibiców. Nie zabrakło też strefy 
 rodzinnej\, wspólnego kibicowania oraz medali i nagród dla najmłodszych
 .\nTegoroczna edycja zapowiada się równie intensywnie. Organizatorzy –
  OSiR Mosina\, MTB Wiórek\, Sołectwo Wiórek i liczni partnerzy – zape
 wniają\, że szykują jeszcze więcej sportowych emocji i dobrej energii.
 \nZapisy już trwają na stronie: osirmosina.pl\n
ATTACH;FMTTYPE=image/jpeg:https://powiat.poznan.pl/wp-content/uploads/2025
 /10/mos2.jpg
CATEGORIES:Dla dzieci,Rozrywka,Sport,Turystyka i rekreacja
LOCATION:Wiórek\, ul. Podleśna nr 70\, 62-050 Wiórek\, Poland
GEO:52.297733;16.90393
X-APPLE-STRUCTURED-LOCATION;VALUE=URI;X-ADDRESS=ul. Podleśna nr 70\, 62-05
 0 Wiórek\, Poland;X-APPLE-RADIUS=100;X-TITLE=Wiórek:geo:52.297733,16.903
 93
END:VEVENT
END:VCALENDAR