BEGIN:VCALENDAR
VERSION:2.0
PRODID:-//wp-events-plugin.com//7.1.7//EN
BEGIN:VEVENT
UID:9057@powiat.poznan.pl
DTSTART:20250602T230000Z
DTEND:20250913T230000Z
DTSTAMP:20250522T074024Z
URL:https://powiat.poznan.pl/events/wystawa-malarska-2/
SUMMARY:Wystawa malarska
DESCRIPTION:Wystawa prac grup malarskich centrum Kultury Przeźmierowo prow
 adzonych przez instruktora Magdalenę Łuczak.\n\nSurrealizm\, zwany równ
 ież nadrealizmem\, to kierunek w sztuce i literaturze\, który powstał n
 a początku XX wieku we Francji. Charakterystyczne dla niego jest dążeni
 e do wykrzyczenia irracjonalnych stanów\, snów\, fantazji i podświadomo
 ści\, często z wykorzystaniem paradoksów i absurdów . Obrazy surrealis
 tyczne celowo burzą logiczny porządek a nietypowe zestawienia prowokują
  odbiorcę do podjęcia gry skojarzeń.\n\nObrazy malowane w technice olej
  na płótnie. Format\, prac dobrany w zależności od indywidualnych upod
 obań.\n\n
ATTACH;FMTTYPE=image/jpeg:https://powiat.poznan.pl/wp-content/uploads/2025
 /05/tp7.jpg
CATEGORIES:Kultura i sztuka
LOCATION:Centrum Kultury Przeźmierowo\, ul. Ogrodowa 13a\, Przeźmierowo\,
  Poland
GEO:52.43219800000001;16.776851899999997
X-APPLE-STRUCTURED-LOCATION;VALUE=URI;X-ADDRESS=ul. Ogrodowa 13a\, Przeźmi
 erowo\, Poland;X-APPLE-RADIUS=100;X-TITLE=Centrum Kultury Przeźmierowo:ge
 o:52.43219800000001,16.776851899999997
END:VEVENT
END:VCALENDAR