BEGIN:VCALENDAR
VERSION:2.0
PRODID:-//wp-events-plugin.com//7.1.7//EN
BEGIN:VEVENT
UID:7444@powiat.poznan.pl
DTSTART:20231107T091500Z
DTEND:20240430T091500Z
DTSTAMP:20231117T075356Z
URL:https://powiat.poznan.pl/events/wystawa-nigdy-wojny/
SUMMARY:Wystawa - Nigdy Wojny
DESCRIPTION:Muzeum Martyrologiczne w Żabikowie zaprasza na nową wystawę 
 oraz wydarzenia towarzyszące\nWięcej informacji na lubon.pl\n\n
ATTACH;FMTTYPE=image/jpeg:https://powiat.poznan.pl/wp-content/uploads/2023
 /11/wystawa_lubon_plakat-goslawski-700x1000-druk_page-0001-1-scaled.jpg
CATEGORIES:Dla dzieci,Dla seniora,Edukacja,Społeczne
LOCATION:Muzeum Martyrologiczne w Żabikowie\, ul. Niezłomnych 2\, Luboń\
 , Poland
GEO:52.353679;16.865937
X-APPLE-STRUCTURED-LOCATION;VALUE=URI;X-ADDRESS=ul. Niezłomnych 2\, Luboń
 \, Poland;X-APPLE-RADIUS=100;X-TITLE=Muzeum Martyrologiczne w Żabikowie:g
 eo:52.353679,16.865937
END:VEVENT
END:VCALENDAR