BEGIN:VCALENDAR
VERSION:2.0
PRODID:-//wp-events-plugin.com//7.1.7//EN
BEGIN:VEVENT
UID:9522@powiat.poznan.pl
DTSTART:20260110T070000Z
DTEND:20260111T143000Z
DTSTAMP:20251210T134902Z
URL:https://powiat.poznan.pl/events/xxiv-grand-prix-orlikow-i-zakow-w-dopi
 ewie-2/
SUMMARY:XXIV Grand Prix orlików i żaków w Dopiewie
DESCRIPTION:W sobotę 13 grudnia i niedzielę 14 grudnia w hali Gminnego O
 środka Sportu i Rekreacji w Dopiewie rozegrano pierwsze turnieje organizo
 wane w ramach XXIV Grand Prix orlików i żaków w halowej piłce nożnej 
 o puchar Prezesa Wielkopolskiego Związku Piłki Nożnej pod honorowym pat
 ronatem Ministra Sportu i Turystyki Jakuba Rutnickiego\, Jana Grabkowskieg
 o\, starosty poznańskiego w kategorii orlik oraz wójta gminy Dopiewo\, S
 ławomira Skrzypczaka w kategorii żak.\n\nKolejne mecze cyklu rozegrane z
 ostaną w dniach 10-11.01.2026 r. a wielki finał zaplanowano w dniach 07-
 08.02.2026 r. Wyniki i szczegółowy terminarz jest dostępny na stronie 
 tournify.pl. XXIV Grand Prix orlików i żaków w halowej piłce nożnej w
 spierane jest przez powiat poznański.\n\n
ATTACH;FMTTYPE=image/jpeg:https://powiat.poznan.pl/wp-content/uploads/2025
 /12/gp.jpg
CATEGORIES:Dla dzieci,Rozrywka,Społeczne,Sport
LOCATION:Hala GOSiR Dopiewo\, ul. Polna\, Dopiewo\, Poland
GEO:52.354751;16.67085080000004
X-APPLE-STRUCTURED-LOCATION;VALUE=URI;X-ADDRESS=ul. Polna\, Dopiewo\, Polan
 d;X-APPLE-RADIUS=100;X-TITLE=Hala GOSiR Dopiewo:geo:52.354751,16.670850800
 00004
END:VEVENT
END:VCALENDAR