BEGIN:VCALENDAR
VERSION:2.0
PRODID:-//wp-events-plugin.com//7.1.7//EN
BEGIN:VEVENT
UID:9603@powiat.poznan.pl
DTSTART:20260216T090000Z
DTEND:20260227T120000Z
DTSTAMP:20260204T102810Z
URL:https://powiat.poznan.pl/events/zajecia-zimowe-w-strefie-wyobrazni-w-b
 uku/
SUMMARY:Zajęcia zimowe w „Strefie Wyobraźni” w Buku
DESCRIPTION:Świetlica Środowiskowa „Strefa Wyobraźni” serdecznie zap
 rasza na zajęcia zimowe.\n\n
ATTACH;FMTTYPE=image/jpeg:https://powiat.poznan.pl/wp-content/uploads/2026
 /02/b1.jpg
CATEGORIES:Dla dzieci,Edukacja,Rozrywka,Społeczne
LOCATION:Buk\, buk\, buk\, Poland
GEO:52.35536;16.519559
X-APPLE-STRUCTURED-LOCATION;VALUE=URI;X-ADDRESS=buk\, buk\, Poland;X-APPLE-
 RADIUS=100;X-TITLE=Buk:geo:52.35536,16.519559
END:VEVENT
END:VCALENDAR