BEGIN:VCALENDAR
VERSION:2.0
PRODID:-//wp-events-plugin.com//7.1.7//EN
BEGIN:VEVENT
UID:9108@powiat.poznan.pl
DTSTART:20250601T090000Z
DTEND:20250601T130000Z
DTSTAMP:20250522T115621Z
URL:https://powiat.poznan.pl/events/zakrecony-dzien-dziecka/
SUMMARY:Zakręcony Dzień Dziecka
DESCRIPTION:Spędź całą rodziną aktywnie Dzień Dziecka. Zbierzcie się
  z rodziną\, przyjaciółmi\, sąsiadami i znajomymi i wsiadajcie na swoj
 e maszyny. Jedziemy na rajd rowerowy z metą w Szreniawie. Na miejscu czek
 ają nasze klasycze atrakcje - w tym kiełbaski i quiz rowerowy Zakręcony
 ch Plewisk. Ale także atrakcje Bajkowego Dnia Dziecka podczas XXXI Dni Gm
 iny Komorniki.\nRejestracja: w biurze rajdu od godz. 9.30.Prosimy o przyja
 zd na start najpóźniej o godz 9.45.\n\n
ATTACH;FMTTYPE=image/jpeg:https://powiat.poznan.pl/wp-content/uploads/2025
 /05/k4.jpg
CATEGORIES:Dla dzieci,Rozrywka,Społeczne,Turystyka i rekreacja
LOCATION:Plewiska Stawy Waszyngtońskie\, Plewiska\, 62-064 Plewiska\, Pola
 nd
GEO:52.366179;16.809297
X-APPLE-STRUCTURED-LOCATION;VALUE=URI;X-ADDRESS=Plewiska\, 62-064 Plewiska\
 , Poland;X-APPLE-RADIUS=100;X-TITLE=Plewiska Stawy Waszyngtońskie:geo:52.
 366179,16.809297
END:VEVENT
END:VCALENDAR