BEGIN:VCALENDAR
VERSION:2.0
PRODID:-//wp-events-plugin.com//7.1.7//EN
BEGIN:VEVENT
UID:8482@powiat.poznan.pl
DTSTART:20241017T160000Z
DTEND:20241017T160000Z
DTSTAMP:20241008T074253Z
URL:https://powiat.poznan.pl/events/zapiski-obserwatora-wieczor-poetycki-b
 arbary-lucji-gryglewicz/
SUMMARY:„Zapiski obserwatora” – wieczór poetycki Barbary Łucji Gryg
 lewicz
DESCRIPTION:„Zapiski obserwatora” – wieczór poetycki Barbary Łucji 
 Gryglewicz\nWięcej informacji na kornik.pl\n\n
ATTACH;FMTTYPE=image/jpeg:https://powiat.poznan.pl/wp-content/uploads/2024
 /10/zapiski-obserwatora_kornik_bnin.png
CATEGORIES:Wykład
LOCATION:Filia Biblioteki Publicznej w Kórniku-Bninie\, Rynek 16\, Kórnik
  - Bnin\, Wielkopolskie\, Poland
GEO:52.231174;17.095424
X-APPLE-STRUCTURED-LOCATION;VALUE=URI;X-ADDRESS=Rynek 16\, Kórnik - Bnin\,
  Wielkopolskie\, Poland;X-APPLE-RADIUS=100;X-TITLE=Filia Biblioteki Public
 znej w Kórniku-Bninie:geo:52.231174,17.095424
END:VEVENT
END:VCALENDAR