BEGIN:VCALENDAR
VERSION:2.0
PRODID:-//wp-events-plugin.com//7.1.7//EN
BEGIN:VEVENT
UID:8881@powiat.poznan.pl
DTSTART:20250302T080000Z
DTEND:20250302T130000Z
DTSTAMP:20250228T101823Z
URL:https://powiat.poznan.pl/events/zbiorka-krwi-22/
SUMMARY:Zbiórka krwi
DESCRIPTION:
ATTACH;FMTTYPE=image/jpeg:https://powiat.poznan.pl/wp-content/uploads/2025
 /02/480240494_1026368546204286_4149162365210570221_n.jpg
CATEGORIES:Zdrowie
LOCATION:Miejsko-Gminny Ośrodek Kultury w Buku\, ul. Dobieżyńska 27\, Bu
 k\, Poland
GEO:52.352632;16.523409000000015
X-APPLE-STRUCTURED-LOCATION;VALUE=URI;X-ADDRESS=ul. Dobieżyńska 27\, Buk\
 , Poland;X-APPLE-RADIUS=100;X-TITLE=Miejsko-Gminny Ośrodek Kultury w Buku
 :geo:52.352632,16.523409000000015
END:VEVENT
END:VCALENDAR