BEGIN:VCALENDAR
VERSION:2.0
PRODID:-//wp-events-plugin.com//7.1.7//EN
BEGIN:VEVENT
UID:9595@powiat.poznan.pl
DTSTART:20260306T170000Z
DTEND:20260306T190000Z
DTSTAMP:20260204T090746Z
URL:https://powiat.poznan.pl/events/zona-do-adopcji-spektakl/
SUMMARY:Żona do adopcji - spektakl
DESCRIPTION:"Żona do adopcji" to kapitalny spektakl komediowy o tym\, jak 
 potrafi się zagmatwać pozornie prosta sytuacja… W życiu Adama wszystk
 o miało swoje miejsce – dom praca\, dom praca. Od czasu do czasu jakaś
  kontrolowana rozrywka. Ale w życiu każdego człowieka przychodzi taka c
 hwila\, że nawet dobrze naoliwiona maszyna przestaje funkcjonować i nieb
 o zaczyna walić się na głowę. Żona Adama wyjeżdża.\n\nMieszkanie na
 wiedza natrętny domokrążca i wróżbita. Niespodziewanie pojawia się r
 ównież Filip\, kolega z podstawówki. Do drzwi puka przedstawicielka Oś
 rodka Adopcyjnego\, o której wizycie Adam zupełnie zapomniał. Spokojne 
 dotychczas życie bohatera wypełnia się mnóstwem niedomówień\, pomów
 ień i abstrakcyjnych insynuacji. A wszystko przykryte płaszczem „norma
 lności”. Jak rozwiąże się splot dziwnych wydarzeń? Zapraszamy 6 mar
 ca 2026 roku o godz. 18.00 do sali widowiskowej „Kostrzynianka”. Bilet
 y w cenie 60 zł/os do nabycia w M-GOK od 2 lutego od godz. 8.00.\n\n
ATTACH;FMTTYPE=image/jpeg:https://powiat.poznan.pl/wp-content/uploads/2026
 /02/zona-do-adopcji-aktorzy.jpg
CATEGORIES:Kultura i sztuka,Rozrywka
LOCATION:Kostrzynianka\, Poznańska\, Kostrzyn\, Poland
GEO:52.3976135;17.21660040000006
X-APPLE-STRUCTURED-LOCATION;VALUE=URI;X-ADDRESS=Poznańska\, Kostrzyn\, Pol
 and;X-APPLE-RADIUS=100;X-TITLE=Kostrzynianka:geo:52.3976135,17.21660040000
 006
END:VEVENT
END:VCALENDAR