BEGIN:VCALENDAR
VERSION:2.0
PRODID:-//wp-events-plugin.com//7.1.7//EN
BEGIN:VEVENT
UID:9641@powiat.poznan.pl
DTSTART:20260316T080000Z
DTEND:20260326T110000Z
DTSTAMP:20260226T101814Z
URL:https://powiat.poznan.pl/events/zwyczaje-i-obrzedy-wielkanocne-w-szren
 iawie/
SUMMARY:Zwyczaje i obrzędy wielkanocne w Szreniawie
DESCRIPTION:W drugiej połowie marca miłośnicy tradycji będą mieli okaz
 ję bliżej poznać jedną z najpiękniejszych ozdób świąt wielkanocnyc
 h – kroszonkę opolską. Tegoroczna odsłona wydarzenia „Zwyczaje i ob
 rzędy wielkanocne” poświęcona będzie właśnie temu wyjątkowemu jaj
 ku\, którego skorupkę zdobią misterne\, wiosenne wzory wykonywane techn
 iką drapania. Oferta skierowana jest do uczniów klas IV–VIII szkół p
 odstawowych\, młodzieży szkół ponadpodstawowych oraz studentów. Zaję
 cia odbywać się będą w dniach od 16 do 26 marca 2026 roku. Każda grup
 a wraz z opiekunami\, może liczyć maksymalnie 30 osób.\n\nProgram wydar
 zenia obejmuje prelekcję wzbogaconą prezentacją multimedialną\, poświ
 ęconą symbolice jajka wielkanocnego oraz jego znaczeniu w tradycji ludow
 ej. Uczestnicy wezmą również udział w warsztatach prowadzonych przez t
 wórczynię ludową Sabinę Karwat\, podczas których samodzielnie wykonaj
 ą kroszonkę opolską. W planie przewidziano także zwiedzanie wystaw wie
 lkanocnych\, w tym tradycyjnie nakrytego stołu świątecznego w pałacu z
 najdującego się na terenie Muzeum\, ekspozycji w zagrodzie edukacyjnej o
 raz kolekcji pisanek. Nie zabraknie Kiermaszu Świątecznego\, podczas kt
 órego będzie można nabyć rękodzieło i ozdoby wykonane przez twórcó
 w ludowych oraz muzealny Klub Rękodzieła.\n\nOrganizatorzy przygotowali 
 również kącik śniadaniowy z bezpłatną herbatą\, możliwość wykona
 nia pamiątkowego zdjęcia w wielkanocnej scenerii\, a także indywidualne
 go odwiedzenia zwierząt w oborze. Po zakończeniu zajęć goście mogą k
 ontynuować zwiedzanie ekspozycji we własnym zakresie.\n\nWolne terminy:\
 n\n 	16 marca\, godz. 11.00\n 	17 marca\, godz. 11.00\n 	18 marca\, godz. 
 11.00\n 	19 marca\, godz. 9.00\n 	26 marca\, godz. 9.00 i 11.00\n\nRezerwa
 cje przyjmowane są telefonicznie pod numerem 61 810 76 29 (wew. 21 lub 18
 ). Strona internetowa: www.muzeum-szreniawa.pl\n\n&nbsp\;\n\n
ATTACH;FMTTYPE=image/jpeg:https://powiat.poznan.pl/wp-content/uploads/2026
 /02/tworczyni-ludowa-sabina-karwat-002.jpg
CATEGORIES:Dla dzieci,Dla seniora,Edukacja,Społeczne,Warsztaty
LOCATION:Muzeum Narodowe Rolnictwa i Przemysłu Rolno-Spożywczego w Szreni
 awie\, ul. Dworcowa 5\, Szreniawa\, Wielkopolskie\, 62-052\, Poland
GEO:52.3165841;16.797744400000056
X-APPLE-STRUCTURED-LOCATION;VALUE=URI;X-ADDRESS=ul. Dworcowa 5\, Szreniawa\
 , Wielkopolskie\, 62-052\, Poland;X-APPLE-RADIUS=100;X-TITLE=Muzeum Narodo
 we Rolnictwa i Przemysłu Rolno-Spożywczego w Szreniawie:geo:52.3165841,1
 6.797744400000056
END:VEVENT
END:VCALENDAR